BEGIN:VCALENDAR
VERSION:2.0
PRODID:-//Jämtlands Motorklubb - ECPv6.15.20//NONSGML v1.0//EN
CALSCALE:GREGORIAN
METHOD:PUBLISH
X-ORIGINAL-URL:https://jmk.nu
X-WR-CALDESC:Händelser för Jämtlands Motorklubb
REFRESH-INTERVAL;VALUE=DURATION:PT1H
X-Robots-Tag:noindex
X-PUBLISHED-TTL:PT1H
BEGIN:VTIMEZONE
TZID:Europe/Stockholm
BEGIN:DAYLIGHT
TZOFFSETFROM:+0100
TZOFFSETTO:+0200
TZNAME:CEST
DTSTART:20250330T010000
END:DAYLIGHT
BEGIN:STANDARD
TZOFFSETFROM:+0200
TZOFFSETTO:+0100
TZNAME:CET
DTSTART:20251026T010000
END:STANDARD
BEGIN:DAYLIGHT
TZOFFSETFROM:+0100
TZOFFSETTO:+0200
TZNAME:CEST
DTSTART:20260329T010000
END:DAYLIGHT
BEGIN:STANDARD
TZOFFSETFROM:+0200
TZOFFSETTO:+0100
TZNAME:CET
DTSTART:20261025T010000
END:STANDARD
BEGIN:DAYLIGHT
TZOFFSETFROM:+0100
TZOFFSETTO:+0200
TZNAME:CEST
DTSTART:20270328T010000
END:DAYLIGHT
BEGIN:STANDARD
TZOFFSETFROM:+0200
TZOFFSETTO:+0100
TZNAME:CET
DTSTART:20271031T010000
END:STANDARD
END:VTIMEZONE
BEGIN:VEVENT
DTSTART;TZID=Europe/Stockholm:20260427T180000
DTEND;TZID=Europe/Stockholm:20260427T200000
DTSTAMP:20260426T051246
CREATED:20260423T195307Z
LAST-MODIFIED:20260423T195307Z
UID:1834-1777312800-1777320000@jmk.nu
SUMMARY:Styrelsemöte
DESCRIPTION:Styrelsemöte \nKansliet \n18.00 – 20.00 \n 
URL:https://jmk.nu/event/styrelsemote/
LOCATION:Kansliet\, Lungre 425\, Östersund\, 83191\, Sverige
END:VEVENT
END:VCALENDAR